BEGIN:VCALENDAR
VERSION:2.0
PRODID:-//Leisure Time Games - ECPv6.15.20//NONSGML v1.0//EN
CALSCALE:GREGORIAN
METHOD:PUBLISH
X-ORIGINAL-URL:http://www.leisuretimegames.com
X-WR-CALDESC:Events for Leisure Time Games
REFRESH-INTERVAL;VALUE=DURATION:PT1H
X-Robots-Tag:noindex
X-PUBLISHED-TTL:PT1H
BEGIN:VTIMEZONE
TZID:America/Los_Angeles
BEGIN:DAYLIGHT
TZOFFSETFROM:-0800
TZOFFSETTO:-0700
TZNAME:PDT
DTSTART:20170312T100000
END:DAYLIGHT
BEGIN:STANDARD
TZOFFSETFROM:-0700
TZOFFSETTO:-0800
TZNAME:PST
DTSTART:20171105T090000
END:STANDARD
BEGIN:DAYLIGHT
TZOFFSETFROM:-0800
TZOFFSETTO:-0700
TZNAME:PDT
DTSTART:20180311T100000
END:DAYLIGHT
BEGIN:STANDARD
TZOFFSETFROM:-0700
TZOFFSETTO:-0800
TZNAME:PST
DTSTART:20181104T090000
END:STANDARD
BEGIN:DAYLIGHT
TZOFFSETFROM:-0800
TZOFFSETTO:-0700
TZNAME:PDT
DTSTART:20190310T100000
END:DAYLIGHT
BEGIN:STANDARD
TZOFFSETFROM:-0700
TZOFFSETTO:-0800
TZNAME:PST
DTSTART:20191103T090000
END:STANDARD
END:VTIMEZONE
BEGIN:VEVENT
DTSTART;VALUE=DATE:20180929
DTEND;VALUE=DATE:20181001
DTSTAMP:20260421T084003
CREATED:20180922T053055Z
LAST-MODIFIED:20180922T053055Z
UID:1430-1538179200-1538351999@www.leisuretimegames.com
SUMMARY:Guilds Of Ravnica Prerelease Weekend
DESCRIPTION:
URL:http://www.leisuretimegames.com/event/guilds-of-ravnica-prerelease-weekend/
END:VEVENT
BEGIN:VEVENT
DTSTART;TZID=America/Los_Angeles:20180811T120000
DTEND;TZID=America/Los_Angeles:20180811T190000
DTSTAMP:20260421T084003
CREATED:20180707T021224Z
LAST-MODIFIED:20180707T021706Z
UID:1304-1533988800-1534014000@www.leisuretimegames.com
SUMMARY:Magic Preliminary Pro Tour Qualifier #1 Of 2019
DESCRIPTION:
URL:http://www.leisuretimegames.com/event/magic-preliminary-pro-tour-qualifier-1-of-2019/
LOCATION:Leisure Time Games\, 159 Town Center East\, SANTA MARIA\, CA\, 93454\, United States
END:VEVENT
BEGIN:VEVENT
DTSTART;TZID=America/Los_Angeles:20180811T100000
DTEND;TZID=America/Los_Angeles:20180811T220000
DTSTAMP:20260421T084003
CREATED:20180706T231717Z
LAST-MODIFIED:20180706T231717Z
UID:1270-1533981600-1534024800@www.leisuretimegames.com
SUMMARY:Summer Games And Comics Day 2018
DESCRIPTION:
URL:http://www.leisuretimegames.com/event/summer-games-and-comics-day-2018/
LOCATION:Leisure Time Games\, 159 Town Center East\, SANTA MARIA\, CA\, 93454\, United States
END:VEVENT
BEGIN:VEVENT
DTSTART;TZID=America/Los_Angeles:20180728T120000
DTEND;TZID=America/Los_Angeles:20180728T170000
DTSTAMP:20260421T084003
CREATED:20180708T042051Z
LAST-MODIFIED:20180708T042051Z
UID:1328-1532779200-1532797200@www.leisuretimegames.com
SUMMARY:Pokemon Sun And Moon Celestial Storm Prerelease
DESCRIPTION:
URL:http://www.leisuretimegames.com/event/pokemon-sun-and-moon-celestial-storm-prerelease/
LOCATION:Leisure Time Games\, 159 Town Center East\, SANTA MARIA\, CA\, 93454\, United States
END:VEVENT
BEGIN:VEVENT
DTSTART;TZID=America/Los_Angeles:20180727T170000
DTEND;TZID=America/Los_Angeles:20180727T200000
DTSTAMP:20260421T084003
CREATED:20180707T040133Z
LAST-MODIFIED:20180707T040316Z
UID:1314-1532710800-1532721600@www.leisuretimegames.com
SUMMARY:Cardfight!! Vanguard The Destructive Roar Sneak Preview
DESCRIPTION:
URL:http://www.leisuretimegames.com/event/cardfight-vanguard-the-destructive-roar-sneak-preview/
LOCATION:Leisure Time Games\, 159 Town Center East\, SANTA MARIA\, CA\, 93454\, United States
END:VEVENT
BEGIN:VEVENT
DTSTART;TZID=America/Los_Angeles:20180722T120000
DTEND;TZID=America/Los_Angeles:20180722T180000
DTSTAMP:20260421T084003
CREATED:20180715T023928Z
LAST-MODIFIED:20180715T023928Z
UID:1350-1532260800-1532282400@www.leisuretimegames.com
SUMMARY:Cybernetic Horizon Sneak Peek Weekend
DESCRIPTION:
URL:http://www.leisuretimegames.com/event/cybernetic-horizon-sneak-peek-weekend-2/
LOCATION:Leisure Time Games\, 159 Town Center East\, SANTA MARIA\, CA\, 93454\, United States
END:VEVENT
BEGIN:VEVENT
DTSTART;TZID=America/Los_Angeles:20180721T120000
DTEND;TZID=America/Los_Angeles:20180721T180000
DTSTAMP:20260421T084003
CREATED:20180715T023819Z
LAST-MODIFIED:20180715T023819Z
UID:1348-1532174400-1532196000@www.leisuretimegames.com
SUMMARY:Cybernetic Horizon Sneak Peek Weekend
DESCRIPTION:
URL:http://www.leisuretimegames.com/event/cybernetic-horizon-sneak-peek-weekend/
LOCATION:Leisure Time Games\, 159 Town Center East\, SANTA MARIA\, CA\, 93454\, United States
END:VEVENT
END:VCALENDAR